{
 "currentVersion": 10.81,
 "serviceDescription": "Ortofoto PNOA 2022 provincia de Murcia y Andalucia",
 "mapName": "Capas",
 "description": "",
 "copyrightText": "",
 "supportsDynamicLayers": true,
 "layers": [
  {
   "id": 0,
   "name": "PNOA_2022_MUR",
   "parentLayerId": -1,
   "defaultVisibility": true,
   "subLayerIds": null,
   "minScale": 0,
   "maxScale": 0,
   "type": "Raster Catalog Layer",
   "geometryType": "esriGeometryPolygon"
  },
  {
   "id": 1,
   "name": "PNOA_2022_AND",
   "parentLayerId": -1,
   "defaultVisibility": true,
   "subLayerIds": null,
   "minScale": 0,
   "maxScale": 0,
   "type": "Raster Catalog Layer",
   "geometryType": "esriGeometryPolygon"
  }
 ],
 "tables": [],
 "spatialReference": {
  "wkid": 25830,
  "latestWkid": 25830
 },
 "singleFusedMapCache": true,
 "tileInfo": {
  "rows": 512,
  "cols": 512,
  "dpi": 96,
  "format": "PNG32",
  "compressionQuality": 0,
  "origin": {
   "x": -5120900,
   "y": 9998100
  },
  "spatialReference": {
   "wkid": 25830,
   "latestWkid": 25830
  },
  "lods": [
   {
    "level": 0,
    "resolution": 4891.969810248921,
    "scale": 1.8489297737232E7
   },
   {
    "level": 1,
    "resolution": 2445.9849051244605,
    "scale": 9244648.868616
   },
   {
    "level": 2,
    "resolution": 1222.9924525622303,
    "scale": 4622324.434308
   },
   {
    "level": 3,
    "resolution": 611.4962262811151,
    "scale": 2311162.217154
   },
   {
    "level": 4,
    "resolution": 305.74811314055756,
    "scale": 1155581.108577
   },
   {
    "level": 5,
    "resolution": 152.87405657041106,
    "scale": 577790.554289
   },
   {
    "level": 6,
    "resolution": 76.43702828507324,
    "scale": 288895.277144
   },
   {
    "level": 7,
    "resolution": 38.21851414253662,
    "scale": 144447.638572
   },
   {
    "level": 8,
    "resolution": 19.10925707126831,
    "scale": 72223.819286
   },
   {
    "level": 9,
    "resolution": 9.554628535634155,
    "scale": 36111.909643
   },
   {
    "level": 10,
    "resolution": 4.77731426794937,
    "scale": 18055.954822
   },
   {
    "level": 11,
    "resolution": 2.388657133974685,
    "scale": 9027.977411
   },
   {
    "level": 12,
    "resolution": 1.1943285668550503,
    "scale": 4513.988705
   },
   {
    "level": 13,
    "resolution": 0.5971642835598172,
    "scale": 2256.994353
   },
   {
    "level": 14,
    "resolution": 0.29858214164761665,
    "scale": 1128.497176
   }
  ]
 },
 "initialExtent": {
  "xmin": 482102.3942622688,
  "ymin": 4196173.019321338,
  "xmax": 573225.0765076334,
  "ymax": 4259143.9785965895,
  "spatialReference": {
   "wkid": 25830,
   "latestWkid": 25830
  }
 },
 "fullExtent": {
  "xmin": 520040,
  "ymin": 4120900,
  "xmax": 707810,
  "ymax": 4293030,
  "spatialReference": {
   "wkid": 25830,
   "latestWkid": 25830
  }
 },
 "minScale": 1.8489297737232E7,
 "maxScale": 1128.497176,
 "units": "esriMeters",
 "supportedImageFormatTypes": "PNG32,PNG24,PNG,JPG,DIB,TIFF,EMF,PS,PDF,GIF,SVG,SVGZ,BMP",
 "documentInfo": {
  "Title": "",
  "Author": "",
  "Comments": "Ortofoto PNOA 2012 provincia de Murcia",
  "Subject": "Ortofoto PNOA 2017 Provincia de Alicante",
  "Category": "",
  "AntialiasingMode": "None",
  "TextAntialiasingMode": "Force",
  "Keywords": "pnoa 2022 murcia"
 },
 "capabilities": "Map,Query,Data",
 "supportedQueryFormats": "JSON, geoJSON",
 "exportTilesAllowed": false,
 "referenceScale": 0,
 "supportsDatumTransformation": true,
 "maxRecordCount": 1000,
 "maxImageHeight": 4096,
 "maxImageWidth": 4096,
 "supportedExtensions": "WMSServer",
 "resampling": false,
 "serviceItemId": "b86b59270fe3447a82cc1fe1fae4a778"
}
