View In:
  ArcGIS JavaScript
  ArcGIS Online Map Viewer
  ArcGIS Earth
  ArcMap
  ArcGIS Pro
View Footprint In:
  ArcGIS Online Map Viewer
Service Description:  
Map Name:  Layers
Legend
All Layers and Tables
Layers: 
Description:  
Service Item Id:  b9de31630b4040ab8b83ae2c9637cd6c
Copyright Text:   
Spatial Reference: 
25830
 (25830)
Single Fused Map Cache:  true
Tile Info: 
- Height: 512
 
- Width: 512
 
- DPI: 96
 
- 
Levels of Detail:  15
- 
Level ID: 0
[ Start Tile, End Tile ]
 
- Resolution: 4891.969810248921
 
- Scale: 1.8489297737232E7
- Format: JPEG
 
- Compression Quality: 75.0
 
- Origin: X:  -5120900.0
Y:  9998100.0
 
- Spatial Reference: 25830
 (25830)
 
Initial Extent: 
XMin: 481033.55003346957
YMin: 4250760.1381627675
XMax: 828706.3271549182
YMax: 4361950.968389327
Spatial Reference: 25830
 (25830)
Full Extent: 
XMin: 500090.75359797635
YMin: 4090339.5940613183
XMax: 809857.1080185683
YMax: 4400173.522531094
Spatial Reference: 25830
 (25830)
Units:  esriMeters
Supported Image Format Types:  PNG32,PNG24,PNG,JPG,DIB,TIFF,EMF,PS,PDF,GIF,SVG,SVGZ,BMP
Document Info: 
Title: 
Author: 
Comments: 
Subject: 
Category: 
Keywords: 
AntialiasingMode: None
TextAntialiasingMode: Force
Supports Dynamic Layers:  false
Resampling:  false
MaxRecordCount:  1000
MaxImageHeight:  4096
MaxImageWidth:  4096
Supported Query Formats:  JSON, geoJSON
Supports Query Data Elements:  
Min Scale:  1.8489297737232E7
Max Scale:  1128.497176
Supports Datum Transformation:  true
Child Resources:
  
Info
 
Supported Operations:
  
Export Map
  Return Updates