View In:
  ArcGIS JavaScript
  ArcGIS Online Map Viewer
  ArcGIS Earth
  ArcMap
  ArcGIS Pro
View Footprint In:
  ArcGIS Online Map Viewer
Service Description:  
Map Name:  Layers
Legend
All Layers and Tables
Layers: 
Description:  
Service Item Id:  0403e916e0274c9f88ac552a2e2a22b6
Copyright Text:   
Spatial Reference: 
25830
 (25830)
Single Fused Map Cache:  true
Tile Info: 
- Height: 512
 
- Width: 512
 
- DPI: 96
 
- 
Levels of Detail:  15
- 
Level ID: 0
[ Start Tile, End Tile ]
 
- Resolution: 4891.969810248921
 
- Scale: 1.8489297737232E7
- Format: JPEG
 
- Compression Quality: 75.0
 
- Origin: X:  -5120900.0
Y:  9998100.0
 
- Spatial Reference: 25830
 (25830)
 
Initial Extent: 
XMin: 659050.2487261143
YMin: 4158102.6136220167
XMax: 671506.3611007034
YMax: 4162086.2602215377
Spatial Reference: 25830
 (25830)
Full Extent: 
XMin: 499979.9999999998
YMin: 4090199.9998908113
XMax: 809760.0000019352
YMax: 4336849.997299462
Spatial Reference: 25830
 (25830)
Units:  esriMeters
Supported Image Format Types:  PNG32,PNG24,PNG,JPG,DIB,TIFF,EMF,PS,PDF,GIF,SVG,SVGZ,BMP
Document Info: 
Title: 
Author: 
Comments: 
Subject: 
Category: 
Keywords: 
AntialiasingMode: None
TextAntialiasingMode: Force
Supports Dynamic Layers:  false
Resampling:  false
MaxRecordCount:  1000
MaxImageHeight:  4096
MaxImageWidth:  4096
Supported Query Formats:  JSON, geoJSON
Supports Query Data Elements:  
Min Scale:  1.8489297737232E7
Max Scale:  1128.497176
Supports Datum Transformation:  true
Child Resources:
  
Info
 
Supported Operations:
  
Export Map
  Return Updates