View In:
  ArcGIS JavaScript
  ArcGIS Online Map Viewer
  ArcGIS Earth
  ArcMap
  ArcGIS Pro
View Footprint In:
  ArcGIS Online Map Viewer
Service Description:  
Map Name:  Layers
Legend
All Layers and Tables
Layers: 
Description:  
Service Item Id:  8d7466d6d6514eb8aacaf9b7d0694bc8
Copyright Text:   
Spatial Reference: 
25830
 (25830)
Single Fused Map Cache:  true
Tile Info: 
- Height: 512
 
- Width: 512
 
- DPI: 96
 
- 
Levels of Detail:  15
- 
Level ID: 0
[ Start Tile, End Tile ]
 
- Resolution: 4891.969810248921
 
- Scale: 1.8489297737232E7
- Format: PNG32
 
- Compression Quality: 0.0
 
- Origin: X:  -5120900.0
Y:  9998100.0
 
- Spatial Reference: 25830
 (25830)
 
Initial Extent: 
XMin: 525841.4147182595
YMin: 4222700.775911389
XMax: 716253.2439895334
YMax: 4283597.258969178
Spatial Reference: 25830
 (25830)
Full Extent: 
XMin: 522862.7823947808
YMin: 4122055.543488456
XMax: 719231.8763130121
YMax: 4317168.1042559985
Spatial Reference: 25830
 (25830)
Units:  esriMeters
Supported Image Format Types:  PNG32,PNG24,PNG,JPG,DIB,TIFF,EMF,PS,PDF,GIF,SVG,SVGZ,BMP
Document Info: 
Title: 
Author: 
Comments: 
Subject: 
Category: 
Keywords: 
AntialiasingMode: None
TextAntialiasingMode: Force
Supports Dynamic Layers:  false
Resampling:  false
MaxRecordCount:  1000
MaxImageHeight:  4096
MaxImageWidth:  4096
Supported Query Formats:  JSON, geoJSON
Supports Query Data Elements:  
Min Scale:  1.8489297737232E7
Max Scale:  1128.497176
Supports Datum Transformation:  true
Child Resources:
  
Info
 
Supported Operations:
  
Export Map
  Return Updates