View In:
ArcGIS JavaScript
ArcGIS Online Map Viewer
ArcGIS Earth
ArcMap
ArcGIS Pro
View Footprint In:
ArcGIS Online Map Viewer
Service Description:
Map Name: VISOR_ETRS89
Legend
All Layers and Tables
Layers:
Description:
Service Item Id: 904bd7374f9040699d9951a867322027
Copyright Text:
Spatial Reference:
25830
(25830)
Single Fused Map Cache: true
Tile Info:
- Height: 512
- Width: 512
- DPI: 96
-
Levels of Detail: 15
-
Level ID: 0
[ Start Tile, End Tile ]
- Resolution: 4891.969810248921
- Scale: 1.8489297737232E7
- Format: PNG32
- Compression Quality: 0.0
- Origin: X: -5120900.0
Y: 9998100.0
- Spatial Reference: 25830
(25830)
Initial Extent:
XMin: 704437.113400967
YMin: 4218022.817376157
XMax: 708300.9136590556
YMax: 4219258.517111072
Spatial Reference: 25830
(25830)
Full Extent:
XMin: 611163.8014000002
YMin: 4200357.9636
XMax: 706470.29
YMax: 4237086.787699999
Spatial Reference: 25830
(25830)
Units: esriMeters
Supported Image Format Types: PNG32,PNG24,PNG,JPG,DIB,TIFF,EMF,PS,PDF,GIF,SVG,SVGZ,BMP
Document Info:
Title: VISOR_PUBLICO_ETRS89_v4
Author: Confederación Hidrográfica del Segura-Oficina de Planificación Hidrológica
Comments:
Subject:
Category:
Keywords:
AntialiasingMode: None
TextAntialiasingMode: Force
Supports Dynamic Layers: false
Resampling: false
MaxRecordCount: 1000
MaxImageHeight: 4096
MaxImageWidth: 4096
Supported Query Formats: JSON, geoJSON
Supports Query Data Elements:
Min Scale: 1.8489297737232E7
Max Scale: 1128.497176
Supports Datum Transformation: true
Child Resources:
Info
Supported Operations:
Export Map
Identify
QueryDomains
QueryLegends
Find
Return Updates