View In:
ArcGIS JavaScript
ArcGIS Online Map Viewer
ArcGIS Earth
ArcMap
ArcGIS Pro
View Footprint In:
ArcGIS Online Map Viewer
Service Description:
Map Name: Capas
Legend
All Layers and Tables
Layers:
Description:
Service Item Id: c2b3b4706f0a4dcb8228eba4966f48a3
Copyright Text:
Spatial Reference:
25830
(25830)
Single Fused Map Cache: true
Tile Info:
- Height: 512
- Width: 512
- DPI: 96
-
Levels of Detail: 15
-
Level ID: 0
[ Start Tile, End Tile ]
- Resolution: 4891.969810248921
- Scale: 1.8489297737232E7
- Format: PNG32
- Compression Quality: 0.0
- Origin: X: -5120900.0
Y: 9998100.0
- Spatial Reference: 25830
(25830)
Initial Extent:
XMin: 637838.3361318025
YMin: 4182350.595020031
XMax: 781904.2492636291
YMax: 4294468.006754855
Spatial Reference: 25830
(25830)
Full Extent:
XMin: 665360.0001220703
YMin: 4189520.0001220703
XMax: 731120.0001220703
YMax: 4282030.00012207
Spatial Reference: 25830
(25830)
Units: esriMeters
Supported Image Format Types: PNG32,PNG24,PNG,JPG,DIB,TIFF,EMF,PS,PDF,GIF,SVG,SVGZ,BMP
Document Info:
Title:
Author:
Comments:
Subject:
Category:
Keywords:
AntialiasingMode: None
TextAntialiasingMode: Force
Supports Dynamic Layers: false
Resampling: false
MaxRecordCount: 1000
MaxImageHeight: 4096
MaxImageWidth: 4096
Supported Query Formats: JSON, geoJSON
Supports Query Data Elements:
Min Scale: 1.8489297737232E7
Max Scale: 1128.497176
Supports Datum Transformation: true
Child Resources:
Info
Supported Operations:
Export Map
Return Updates