View In:
ArcGIS JavaScript
ArcGIS Online Map Viewer
ArcGIS Earth
ArcMap
ArcGIS Pro
View Footprint In:
ArcGIS Online Map Viewer
Service Description: Ortofoto PNOA 2018 Provincias de Albacete y Valencia
Map Name: Capas
Legend
All Layers and Tables
Layers:
Description:
Service Item Id: bb5484ba125e4f298e70b3b6b3093eaf
Copyright Text:
Spatial Reference:
25830
(25830)
Single Fused Map Cache: true
Tile Info:
- Height: 512
- Width: 512
- DPI: 96
-
Levels of Detail: 15
-
Level ID: 0
[ Start Tile, End Tile ]
- Resolution: 4891.969810248921
- Scale: 1.8489297737232E7
- Format: PNG32
- Compression Quality: 0.0
- Origin: X: -5120900.0
Y: 9998100.0
- Spatial Reference: 25830
(25830)
Initial Extent:
XMin: 519540.5001220703
YMin: 4237763.341031161
XMax: 687169.5001220703
YMax: 4368218.416788737
Spatial Reference: 25830
(25830)
Full Extent:
XMin: 527160.0001220703
YMin: 4208220.00012207
XMax: 679550.0001220703
YMax: 4327640.00012207
Spatial Reference: 25830
(25830)
Units: esriMeters
Supported Image Format Types: PNG32,PNG24,PNG,JPG,DIB,TIFF,EMF,PS,PDF,GIF,SVG,SVGZ,BMP
Document Info:
Title:
Author:
Comments:
Subject: Ortofoto PNOA 2017 Provincia de Alicante
Category:
Keywords: PNOA,2018
AntialiasingMode: None
TextAntialiasingMode: Force
Supports Dynamic Layers: false
Resampling: false
MaxRecordCount: 1000
MaxImageHeight: 4096
MaxImageWidth: 4096
Supported Query Formats: JSON, geoJSON
Supports Query Data Elements:
Min Scale: 1.8489297737232E7
Max Scale: 1128.497176
Supports Datum Transformation: true
Child Resources:
Info
Supported Operations:
Export Map
Return Updates