View In:
  ArcGIS JavaScript
  ArcGIS Online Map Viewer
  ArcGIS Earth
  ArcMap
  ArcGIS Pro
View Footprint In:
  ArcGIS Online Map Viewer
Service Description:  Cartografía ZI T=100 SNCZI
Map Name:  Capas
Legend
All Layers and Tables
Dynamic Legend
Dynamic All Layers
Layers: 
Description:  
Service Item Id:  6ea91edeb257491fba09982d081f76fe
Copyright Text:   
Spatial Reference: 
25830
 (25830)
Single Fused Map Cache:  true
Tile Info: 
- Height: 512
 
- Width: 512
 
- DPI: 96
 
- 
Levels of Detail:  15
- 
Level ID: 0
[ Start Tile, End Tile ]
 
- Resolution: 4891.969810248921
 
- Scale: 1.8489297737232E7
- Format: PNG32
 
- Compression Quality: 0.0
 
- Origin: X:  -5120900.0
Y:  9998100.0
 
- Spatial Reference: 25830
 (25830)
 
Initial Extent: 
XMin: 498578.4631868127
YMin: 4177972.028641453
XMax: 821235.0398046406
YMax: 4298359.957884433
Spatial Reference: 25830
 (25830)
Full Extent: 
XMin: 549299.5000000009
YMin: 4121938.5013000015
XMax: 706829.0000999998
YMax: 4279918.000000002
Spatial Reference: 25830
 (25830)
Units:  esriMeters
Supported Image Format Types:  PNG32,PNG24,PNG,JPG,DIB,TIFF,EMF,PS,PDF,GIF,SVG,SVGZ,BMP
Document Info: 
Title: 
Author: 
Comments: Cartografía ZI T=100 SNCZI
Subject: Cartografía ZI T=100 SNCZI
Category: 
Keywords: ZI 100
AntialiasingMode: None
TextAntialiasingMode: Force
Supports Dynamic Layers:  true
Resampling:  false
MaxRecordCount:  1000
MaxImageHeight:  4096
MaxImageWidth:  4096
Supported Query Formats:  JSON, geoJSON
Supports Query Data Elements:  
Min Scale:  1.8489297737232E7
Max Scale:  1128.497176
Supports Datum Transformation:  true
Child Resources:
  
Info
  Dynamic Layer
 
Supported Operations:
  
Export Map
  Identify
  QueryDomains
  QueryLegends
  Find
  Return Updates